BEGIN:VCALENDAR
VERSION:2.0
PRODID:-//ACG//Events//EN
CALSCALE:GREGORIAN
METHOD:PUBLISH
BEGIN:VTIMEZONE
TZID:US/Mountain
BEGIN:STANDARD
DTSTART:19701025T080000
TZOFFSETTO:-0700
TZOFFSETFROM:-0600
RRULE:FREQ=YEARLY;BYMONTH=11;BYDAY=1SU
END:STANDARD
BEGIN:DAYLIGHT
DTSTART:19700426T090000
TZOFFSETTO:-0600
TZOFFSETFROM:-0700
RRULE:FREQ=YEARLY;BYMONTH=3;BYDAY=2SU
END:DAYLIGHT
END:VTIMEZONE
BEGIN:VEVENT
UID:DECEMBER-2025-UTAH-BREAKFAST-SPEAKER-SERIES
DTSTART;TZID=US/Mountain:20251209T071528
DTEND;TZID=US/Mountain:20251209T090050
STATUS:CONFIRMED
SUMMARY:December 2025 Utah Breakfast Speaker Series
DESCRIPTION:
LOCATION:Jordan Commons\n9335 State Street\nSandy\\, UT 84070
URL:https://www.acg.org/utah/events/december-2025-utah-breakfast-speak
 er-series
DTSTAMP:20260420T160634Z
END:VEVENT
END:VCALENDAR
