BEGIN:VCALENDAR
VERSION:2.0
PRODID:-//ACG//Events//EN
CALSCALE:GREGORIAN
METHOD:PUBLISH
BEGIN:VTIMEZONE
TZID:America/New_York
BEGIN:STANDARD
DTSTART:19701025T060000
TZOFFSETTO:-0500
TZOFFSETFROM:-0400
RRULE:FREQ=YEARLY;BYMONTH=11;BYDAY=1SU
END:STANDARD
BEGIN:DAYLIGHT
DTSTART:19700426T070000
TZOFFSETTO:-0400
TZOFFSETFROM:-0500
RRULE:FREQ=YEARLY;BYMONTH=3;BYDAY=2SU
END:DAYLIGHT
END:VTIMEZONE
BEGIN:VEVENT
UID:2025RIC-YOUNG-PROFESSIONAL-COFFEE-MEET-UP
DTSTART;TZID=America/New_York:20251204T080012
DTEND;TZID=America/New_York:20251204T100028
STATUS:CONFIRMED
SUMMARY:2025RIC: Young Professional Coffee Meet-Up
DESCRIPTION:
LOCATION:Daisy's at Tredegar\n500 Tredegar Street\nRichmond\\, VA 23219
URL:https://www.acg.org/richmond/events/2025ric-young-professional-cof
 fee-meet
DTSTAMP:20260420T150721Z
END:VEVENT
END:VCALENDAR
