BEGIN:VCALENDAR
VERSION:2.0
PRODID:-//ACG//Events//EN
CALSCALE:GREGORIAN
METHOD:PUBLISH
BEGIN:VTIMEZONE
TZID:US/Eastern
BEGIN:STANDARD
DTSTART:19701025T060000
TZOFFSETTO:-0500
TZOFFSETFROM:-0400
RRULE:FREQ=YEARLY;BYMONTH=11;BYDAY=1SU
END:STANDARD
BEGIN:DAYLIGHT
DTSTART:19700426T070000
TZOFFSETTO:-0400
TZOFFSETFROM:-0500
RRULE:FREQ=YEARLY;BYMONTH=3;BYDAY=2SU
END:DAYLIGHT
END:VTIMEZONE
BEGIN:VEVENT
UID:-ONE-BIG-BEAUTIFUL-BILL-WITH-FORVIS-MAZARS
DTSTART;TZID=US/Eastern:20260115T090002
DTEND;TZID=US/Eastern:20260115T103015
STATUS:CONFIRMED
SUMMARY:“One Big Beautiful Bill” with Forvis Mazars
DESCRIPTION:
URL:https://www.acg.org/northflorida/events/one-big-beautiful-bill-for
 vis-mazars
DTSTAMP:20260420T105250Z
END:VEVENT
END:VCALENDAR
