BEGIN:VCALENDAR
VERSION:2.0
PRODID:-//ACG//Events//EN
CALSCALE:GREGORIAN
METHOD:PUBLISH
BEGIN:VTIMEZONE
TZID:America/New_York
BEGIN:STANDARD
DTSTART:19701025T060000
TZOFFSETTO:-0500
TZOFFSETFROM:-0400
RRULE:FREQ=YEARLY;BYMONTH=11;BYDAY=1SU
END:STANDARD
BEGIN:DAYLIGHT
DTSTART:19700426T070000
TZOFFSETTO:-0400
TZOFFSETFROM:-0500
RRULE:FREQ=YEARLY;BYMONTH=3;BYDAY=2SU
END:DAYLIGHT
END:VTIMEZONE
BEGIN:VEVENT
UID:2026-KICKOFF-WITH-ACG-NEXTGEN
DTSTART;TZID=America/New_York:20260115T073008
DTEND;TZID=America/New_York:20260115T093008
STATUS:CONFIRMED
SUMMARY:From Start to Close: NextGen Voices in the Deal Lifecycle
DESCRIPTION:
LOCATION:Forvis Mazars\n1420 Spring Hill Road\nMcLean\\, VA 22102
URL:https://www.acg.org/national-capital/events/start-close-nextgen-vo
 ices-deal-lifecycle
DTSTAMP:20260420T105437Z
END:VEVENT
END:VCALENDAR
