BEGIN:VCALENDAR
VERSION:2.0
PRODID:-//ACG//Events//EN
CALSCALE:GREGORIAN
METHOD:PUBLISH
BEGIN:VTIMEZONE
TZID:America/Detroit
BEGIN:STANDARD
DTSTART:19700101T060000
TZOFFSETTO:-0500
TZOFFSETFROM:-0500
END:STANDARD
END:VTIMEZONE
BEGIN:VEVENT
UID:148816
DTSTART;TZID=America/Detroit:20260107T080000
DTEND;TZID=America/Detroit:20260107T093000
STATUS:CONFIRMED
SUMMARY: ACG Western Michigan January Member's Coffee & Conversation 
DESCRIPTION:
LOCATION:Ferris Coffee - 405 Seward Ave NW\, Grand Rapids\, MI 49504 \n
URL:https://www.acg.org/wmich/events/acg-western-michigan-january-memb
 ers-coffee-conversation
DTSTAMP:20260420T142951Z
END:VEVENT
END:VCALENDAR
