BEGIN:VCALENDAR
VERSION:2.0
PRODID:-//ACG//Events//EN
CALSCALE:GREGORIAN
METHOD:PUBLISH
BEGIN:VTIMEZONE
TZID:America/Detroit
BEGIN:STANDARD
DTSTART:19700101T060000
TZOFFSETTO:-0500
TZOFFSETFROM:-0500
END:STANDARD
END:VTIMEZONE
BEGIN:VEVENT
UID:148817
DTSTART;TZID=America/Detroit:20260114T113000
DTEND;TZID=America/Detroit:20260114T130000
STATUS:CONFIRMED
SUMMARY:January Signature Program: The State of Private Equity 
DESCRIPTION:
LOCATION:Embassy Suites Grand Rapids Downtown 710 Monroe Ave NW\, Gran
 d Rapids\, MI 49503 \n
URL:https://www.acg.org/wmich/events/january-signature-program-state-p
 rivate-equity
DTSTAMP:20260420T111623Z
END:VEVENT
END:VCALENDAR
