BEGIN:VCALENDAR
VERSION:2.0
PRODID:-//ACG//Events//EN
CALSCALE:GREGORIAN
METHOD:PUBLISH
BEGIN:VTIMEZONE
TZID:America/Detroit
BEGIN:STANDARD
DTSTART:19700101T060000
TZOFFSETTO:-0500
TZOFFSETFROM:-0500
END:STANDARD
END:VTIMEZONE
BEGIN:VEVENT
UID:148818
DTSTART;TZID=America/Detroit:20260128T153000
DTEND;TZID=America/Detroit:20260128T173000
STATUS:CONFIRMED
SUMMARY:January Women's Cocktails & Conversation 
DESCRIPTION:
LOCATION:The Grey Rabbit Gallery & Lounge\nThe Grey Rabbit Gallery & L
 ounge\n700 Wealthy Street\, SE\nGrand Rapids\\, MI 49503
URL:https://www.acg.org/wmich/events/january-womens-cocktails-conversation
DTSTAMP:20260420T093039Z
END:VEVENT
END:VCALENDAR
