BEGIN:VCALENDAR
VERSION:2.0
PRODID:-//ACG//Events//EN
CALSCALE:GREGORIAN
METHOD:PUBLISH
BEGIN:VTIMEZONE
TZID:America/Chicago
BEGIN:STANDARD
DTSTART:19701025T070000
TZOFFSETTO:-0600
TZOFFSETFROM:-0500
RRULE:FREQ=YEARLY;BYMONTH=11;BYDAY=1SU
END:STANDARD
BEGIN:DAYLIGHT
DTSTART:19700426T080000
TZOFFSETTO:-0500
TZOFFSETFROM:-0600
RRULE:FREQ=YEARLY;BYMONTH=3;BYDAY=2SU
END:DAYLIGHT
END:VTIMEZONE
BEGIN:VEVENT
UID:2026-ACG-NEBRASKA-APRIL-BREAKFAST-MEETING-THE-FUTURE-OF-WORK-AND-T
 HE-WORKFORCE
DTSTART;TZID=America/Chicago:20260423T070044
DTEND;TZID=America/Chicago:20260423T090000
STATUS:CONFIRMED
SUMMARY:2026 ACG Nebraska April Breakfast Meeting | Private Credit Panel
DESCRIPTION:
LOCATION:Happy Hollow Country Club\n1701 South 105th Street\nOmaha\\, 
 NE 68124
URL:https://www.acg.org/nebraska/events/2026-acg-nebraska-april-breakf
 ast-meeting-private-credit-panel
DTSTAMP:20260424T193208Z
END:VEVENT
END:VCALENDAR
