BEGIN:VCALENDAR
VERSION:2.0
PRODID:-//ACG//Events//EN
CALSCALE:GREGORIAN
METHOD:PUBLISH
BEGIN:VTIMEZONE
TZID:Europe/Madrid
BEGIN:STANDARD
DTSTART:19700101T060000
TZOFFSETTO:+0100
TZOFFSETFROM:+0100
END:STANDARD
END:VTIMEZONE
BEGIN:VEVENT
UID:148893
DTSTART;TZID=Europe/Madrid:20260113T083000
DTEND;TZID=Europe/Madrid:20260113T100000
STATUS:CONFIRMED
SUMMARY:5ª SESIÓN DE ACG TALKS CON MIURA PARTNERS
DESCRIPTION:
URL:https://www.acg.org/spain/events/5a-sesion-de-acg-talks-con-miura-
 partners
DTSTAMP:20260420T111624Z
END:VEVENT
END:VCALENDAR
