BEGIN:VCALENDAR
VERSION:2.0
PRODID:-//ACG//Events//EN
CALSCALE:GREGORIAN
METHOD:PUBLISH
BEGIN:VTIMEZONE
TZID:America/Indiana/Indianapolis
BEGIN:STANDARD
DTSTART:19701025T060000
TZOFFSETTO:-0500
TZOFFSETFROM:-0400
RRULE:FREQ=YEARLY;BYMONTH=11;BYDAY=1SU
END:STANDARD
BEGIN:DAYLIGHT
DTSTART:19700426T070000
TZOFFSETTO:-0400
TZOFFSETFROM:-0500
RRULE:FREQ=YEARLY;BYMONTH=3;BYDAY=2SU
END:DAYLIGHT
END:VTIMEZONE
BEGIN:VEVENT
UID:148947
DTSTART;TZID=America/Indiana/Indianapolis:20260115T160000
DTEND;TZID=America/Indiana/Indianapolis:20260115T180000
STATUS:CONFIRMED
SUMMARY:Inside the Wealth Manager’s M&A Playbook
DESCRIPTION:
LOCATION:Noble Sissle Room at Hotel Carmichael | 1 Carmichael Square C
 armel\, IN 46032\n
URL:https://www.acg.org/indiana/events/inside-wealth-managers-ma-playbook
DTSTAMP:20260420T105406Z
END:VEVENT
END:VCALENDAR
