BEGIN:VCALENDAR
VERSION:2.0
PRODID:-//ACG//Events//EN
CALSCALE:GREGORIAN
METHOD:PUBLISH
BEGIN:VTIMEZONE
TZID:America/Edmonton
BEGIN:STANDARD
DTSTART:19700101T060000
TZOFFSETTO:-0700
TZOFFSETFROM:-0700
END:STANDARD
END:VTIMEZONE
BEGIN:VEVENT
UID:148961
DTSTART;TZID=America/Edmonton:20260211T190000
DTEND;TZID=America/Edmonton:20260211T210000
STATUS:CONFIRMED
SUMMARY:Young ACG Edmonton Powerplay Networking Night at the Oil Kings
DESCRIPTION:
LOCATION:Rogers Place\nRogers Place\n10220 104 Ave NW\nEdmonton\\, AB 
 T5J0H6
URL:https://www.acg.org/edmonton/events/young-acg-edmonton-powerplay-n
 etworking-night-oil-kings
DTSTAMP:20260420T091237Z
END:VEVENT
END:VCALENDAR
