BEGIN:VCALENDAR
VERSION:2.0
PRODID:-//ACG//Events//EN
CALSCALE:GREGORIAN
METHOD:PUBLISH
BEGIN:VTIMEZONE
TZID:Europe/Berlin
BEGIN:STANDARD
DTSTART:19700101T060000
TZOFFSETTO:+0100
TZOFFSETFROM:+0100
END:STANDARD
END:VTIMEZONE
BEGIN:VEVENT
UID:148984
DTSTART;TZID=Europe/Berlin:20260123T170000
DTEND;TZID=Europe/Berlin:20260123T190000
STATUS:CONFIRMED
SUMMARY:2026 | ACG Germany New Year Members Reception
DESCRIPTION:
LOCATION:Sofitel Frankfurt Opera – Lili’s Bar\nSofitel Frankfurt O
 pera – Lili’s Bar\nOpernplatz 16
URL:https://www.acg.org/germany/events/2026-acg-germany-new-year-membe
 rs-reception
DTSTAMP:20260420T185700Z
END:VEVENT
END:VCALENDAR
