BEGIN:VCALENDAR
VERSION:2.0
PRODID:-//ACG//Events//EN
CALSCALE:GREGORIAN
METHOD:PUBLISH
BEGIN:VTIMEZONE
TZID:America/Chicago
BEGIN:STANDARD
DTSTART:19701025T070000
TZOFFSETTO:-0600
TZOFFSETFROM:-0500
RRULE:FREQ=YEARLY;BYMONTH=11;BYDAY=1SU
END:STANDARD
BEGIN:DAYLIGHT
DTSTART:19700426T080000
TZOFFSETTO:-0500
TZOFFSETFROM:-0600
RRULE:FREQ=YEARLY;BYMONTH=3;BYDAY=2SU
END:DAYLIGHT
END:VTIMEZONE
BEGIN:VEVENT
UID:2026-MID-SOUTH-CAPITAL-CONNECTION
DTSTART;TZID=America/Chicago:20260514T093000
DTEND;TZID=America/Chicago:20260515T110000
STATUS:CONFIRMED
SUMMARY:2026 Mid-South Capital Connection
DESCRIPTION:
LOCATION:Omni Hotel\, Nashville\n250 Rep. John Lewis Way South\nNashvi
 lle\\, TN 37203
URL:https://www.acg.org/tennessee/events/2026-mid-south-capital-connection
DTSTAMP:20260422T192002Z
END:VEVENT
END:VCALENDAR
