BEGIN:VCALENDAR
VERSION:2.0
PRODID:-//ACG//Events//EN
CALSCALE:GREGORIAN
METHOD:PUBLISH
BEGIN:VTIMEZONE
TZID:America/New_York
BEGIN:STANDARD
DTSTART:19701025T060000
TZOFFSETTO:-0500
TZOFFSETFROM:-0400
RRULE:FREQ=YEARLY;BYMONTH=11;BYDAY=1SU
END:STANDARD
BEGIN:DAYLIGHT
DTSTART:19700426T070000
TZOFFSETTO:-0400
TZOFFSETFROM:-0500
RRULE:FREQ=YEARLY;BYMONTH=3;BYDAY=2SU
END:DAYLIGHT
END:VTIMEZONE
BEGIN:VEVENT
UID:2026-ANNUAL-VINO-AND-A-CASINO-WINE-TASTING-GALA
DTSTART;TZID=America/New_York:20260722T173010
DTEND;TZID=America/New_York:20260722T200010
STATUS:CONFIRMED
SUMMARY:2026 Annual Vino and a Casino Wine Tasting Gala
DESCRIPTION:
LOCATION:Raymond James Stadium\n4201 North Dale Mabry Highway\nTampa\\
 , FL 33607
URL:https://www.acg.org/tampabay/events/2026-annual-vino-and-casino-wi
 ne-tasting-gala
DTSTAMP:20260422T033939Z
END:VEVENT
END:VCALENDAR
