BEGIN:VCALENDAR
VERSION:2.0
PRODID:-//ACG//Events//EN
CALSCALE:GREGORIAN
METHOD:PUBLISH
BEGIN:VTIMEZONE
TZID:America/New_York
BEGIN:STANDARD
DTSTART:19701025T060000
TZOFFSETTO:-0500
TZOFFSETFROM:-0400
RRULE:FREQ=YEARLY;BYMONTH=11;BYDAY=1SU
END:STANDARD
BEGIN:DAYLIGHT
DTSTART:19700426T070000
TZOFFSETTO:-0400
TZOFFSETFROM:-0500
RRULE:FREQ=YEARLY;BYMONTH=3;BYDAY=2SU
END:DAYLIGHT
END:VTIMEZONE
BEGIN:VEVENT
UID:2026-ACG-NY-FAMILY-OFFICE-LIMITED-PARTNER-SERIES-SPRING-EDITION
DTSTART;TZID=America/New_York:20260421T180023
DTEND;TZID=America/New_York:20260421T200023
STATUS:CONFIRMED
SUMMARY:2026 ACG NY Family Office & Limited Partner Series | Spring Edition
DESCRIPTION:
LOCATION:The New York Athletic Club\n180 Central Park South\nNew York\
 \, NY 10019
URL:https://www.acg.org/nyc/events/2026-acg-ny-family-office-limited-p
 artner-series-spring-edition
DTSTAMP:20260420T105415Z
END:VEVENT
END:VCALENDAR
