BEGIN:VCALENDAR
VERSION:2.0
PRODID:-//ACG//Events//EN
CALSCALE:GREGORIAN
METHOD:PUBLISH
BEGIN:VTIMEZONE
TZID:America/Edmonton
BEGIN:STANDARD
DTSTART:19700101T060000
TZOFFSETTO:-0700
TZOFFSETFROM:-0700
END:STANDARD
END:VTIMEZONE
BEGIN:VEVENT
UID:149437
DTSTART;TZID=America/Edmonton:20260415T170000
DTEND;TZID=America/Edmonton:20260416T170000
STATUS:CONFIRMED
SUMMARY:ACG Edmonton 2026 Corporate Growth Summit
DESCRIPTION:
LOCATION:JW Marriott \nJW Marriott\n10344 - 102 Street\nEdmonton\\, AB
  T5J0K9
URL:https://www.acg.org/edmonton/events/acg-edmonton-2026-corporate-gr
 owth-summit
DTSTAMP:20260420T111623Z
END:VEVENT
END:VCALENDAR
