BEGIN:VCALENDAR
VERSION:2.0
PRODID:-//ACG//Events//EN
CALSCALE:GREGORIAN
METHOD:PUBLISH
BEGIN:VTIMEZONE
TZID:US/Mountain
BEGIN:STANDARD
DTSTART:19701025T080000
TZOFFSETTO:-0700
TZOFFSETFROM:-0600
RRULE:FREQ=YEARLY;BYMONTH=11;BYDAY=1SU
END:STANDARD
BEGIN:DAYLIGHT
DTSTART:19700426T090000
TZOFFSETTO:-0600
TZOFFSETFROM:-0700
RRULE:FREQ=YEARLY;BYMONTH=3;BYDAY=2SU
END:DAYLIGHT
END:VTIMEZONE
BEGIN:VEVENT
UID:MARCH-2026-UTAH-VALLEY-NETWORK-BREAKFAST
DTSTART;TZID=US/Mountain:20260319T080026
DTEND;TZID=US/Mountain:20260319T093040
STATUS:CONFIRMED
SUMMARY:March 2026 Utah Valley Network Breakfast
DESCRIPTION:
LOCATION:The Grid\n593 South Evermore Lane\nPleasant Grove\\, UT 84062
URL:https://www.acg.org/utah/events/march-2026-utah-valley-network-bre
 akfast
DTSTAMP:20260424T145404Z
END:VEVENT
END:VCALENDAR
