BEGIN:VCALENDAR
VERSION:2.0
PRODID:-//ACG//Events//EN
CALSCALE:GREGORIAN
METHOD:PUBLISH
BEGIN:VTIMEZONE
TZID:America/New_York
BEGIN:STANDARD
DTSTART:19701025T060000
TZOFFSETTO:-0500
TZOFFSETFROM:-0400
RRULE:FREQ=YEARLY;BYMONTH=11;BYDAY=1SU
END:STANDARD
BEGIN:DAYLIGHT
DTSTART:19700426T070000
TZOFFSETTO:-0400
TZOFFSETFROM:-0500
RRULE:FREQ=YEARLY;BYMONTH=3;BYDAY=2SU
END:DAYLIGHT
END:VTIMEZONE
BEGIN:VEVENT
UID:ACG-CT-WOMEN-S-LUNCHEON-OCTOBER-2026
DTSTART;TZID=America/New_York:20261021T120059
DTEND;TZID=America/New_York:20261021T140059
STATUS:CONFIRMED
SUMMARY:ACG CT Women's Luncheon: October 2026
DESCRIPTION:
LOCATION:The Country Club of Darien\n300 Mansfield Avenue\nDarien\\, C
 T 06820
URL:https://www.acg.org/connecticut/events/acg-ct-womens-luncheon-octo
 ber-2026
DTSTAMP:20260422T102410Z
END:VEVENT
END:VCALENDAR
