BEGIN:VCALENDAR
VERSION:2.0
PRODID:-//ACG//Events//EN
CALSCALE:GREGORIAN
METHOD:PUBLISH
BEGIN:VTIMEZONE
TZID:America/Los_Angeles
BEGIN:STANDARD
DTSTART:19701025T090000
TZOFFSETTO:-0800
TZOFFSETFROM:-0700
RRULE:FREQ=YEARLY;BYMONTH=11;BYDAY=1SU
END:STANDARD
BEGIN:DAYLIGHT
DTSTART:19700426T100000
TZOFFSETTO:-0700
TZOFFSETFROM:-0800
RRULE:FREQ=YEARLY;BYMONTH=3;BYDAY=2SU
END:DAYLIGHT
END:VTIMEZONE
BEGIN:VEVENT
UID:ACG-LOS-ANGELES-2026-ANNUAL-AWARDS-GALA
DTSTART;TZID=America/Los_Angeles:20260514T180013
DTEND;TZID=America/Los_Angeles:20260514T220013
STATUS:CONFIRMED
SUMMARY:ACG Los Angeles | 2026 Annual Awards Gala
DESCRIPTION:
LOCATION:Skirball Cultural Center\n2701 North Sepulveda Boulevard\nLos
  Angeles\\, CA 90049
URL:https://www.acg.org/los-angeles/events/acg-los-angeles-2026-annual
 -awards-gala
DTSTAMP:20260422T090240Z
END:VEVENT
END:VCALENDAR
