BEGIN:VCALENDAR
VERSION:2.0
PRODID:-//ACG//Events//EN
CALSCALE:GREGORIAN
METHOD:PUBLISH
BEGIN:VTIMEZONE
TZID:US/Mountain
BEGIN:STANDARD
DTSTART:19701025T080000
TZOFFSETTO:-0700
TZOFFSETFROM:-0600
RRULE:FREQ=YEARLY;BYMONTH=11;BYDAY=1SU
END:STANDARD
BEGIN:DAYLIGHT
DTSTART:19700426T090000
TZOFFSETTO:-0600
TZOFFSETFROM:-0700
RRULE:FREQ=YEARLY;BYMONTH=3;BYDAY=2SU
END:DAYLIGHT
END:VTIMEZONE
BEGIN:VEVENT
UID:2026-DEALMAKING-IN-THE-DESERT-ADVENTURE-SUMMIT
DTSTART;TZID=US/Mountain:20260827T120026
DTEND;TZID=US/Mountain:20260828T203046
STATUS:CONFIRMED
SUMMARY:2026 Dealmaking in the Desert: Adventure Summit
DESCRIPTION:
LOCATION:Hoodoo by Hilton\n111 North 100 West\nMoab\\, UT 84532
URL:https://www.acg.org/utah/events/2026-dealmaking-desert-adventure-summit
DTSTAMP:20260420T232131Z
END:VEVENT
END:VCALENDAR
