BEGIN:VCALENDAR
VERSION:2.0
PRODID:-//ACG//Events//EN
CALSCALE:GREGORIAN
METHOD:PUBLISH
BEGIN:VTIMEZONE
TZID:America/Los_Angeles
BEGIN:STANDARD
DTSTART:19701025T090000
TZOFFSETTO:-0800
TZOFFSETFROM:-0700
RRULE:FREQ=YEARLY;BYMONTH=11;BYDAY=1SU
END:STANDARD
BEGIN:DAYLIGHT
DTSTART:19700426T100000
TZOFFSETTO:-0700
TZOFFSETFROM:-0800
RRULE:FREQ=YEARLY;BYMONTH=3;BYDAY=2SU
END:DAYLIGHT
END:VTIMEZONE
BEGIN:VEVENT
UID:ACG-101-MARCH-25TH-2026-DATA-DEALS-DIRECTION-HOW-AI-IS-SHAPING-PRI
 VATE-EQUITY-CAPITAL-ALLOCATION
DTSTART;TZID=America/Los_Angeles:20260325T173058
DTEND;TZID=America/Los_Angeles:20260325T203019
STATUS:CONFIRMED
SUMMARY:ACG 101 March 25th 2026 Data\, Deals\, & Direction: How AI is 
 Shaping Private Equity & Capital Allocation
DESCRIPTION:
LOCATION:The Provence Room at The Westlake Village Inn\n31943 Agoura R
 oad\nWestlake Village\\, CA 91361
URL:https://www.acg.org/101/events/acg-101-march-25th-2026-data-deals-
 direction-how-ai-shaping-private-equity-capital
DTSTAMP:20260423T031753Z
END:VEVENT
END:VCALENDAR
