BEGIN:VCALENDAR
VERSION:2.0
PRODID:-//ACG//Events//EN
CALSCALE:GREGORIAN
METHOD:PUBLISH
BEGIN:VTIMEZONE
TZID:America/Detroit
BEGIN:STANDARD
DTSTART:19700101T060000
TZOFFSETTO:-0500
TZOFFSETFROM:-0500
END:STANDARD
END:VTIMEZONE
BEGIN:VEVENT
UID:031026-ACG-TN-CHATTANOOGA-LUNCH-AND-LEARN
DTSTART;TZID=America/Detroit:20260310T113040
DTEND;TZID=America/Detroit:20260310T130040
STATUS:CONFIRMED
SUMMARY:031026 ACG TN Chattanooga Lunch and Learn
DESCRIPTION:
LOCATION:Chambliss\, 605 Chestnut Street Suite 1700\, Chattanooga\, TN
  37450\n605 Chestnut Street\nChattanooga\\, TN 37450
URL:https://www.acg.org/tennessee/events/031026-acg-tn-chattanooga-lun
 ch-and-learn
DTSTAMP:20260421T154204Z
END:VEVENT
END:VCALENDAR
