BEGIN:VCALENDAR
VERSION:2.0
PRODID:-//ACG//Events//EN
CALSCALE:GREGORIAN
METHOD:PUBLISH
BEGIN:VTIMEZONE
TZID:America/New_York
BEGIN:STANDARD
DTSTART:19701025T060000
TZOFFSETTO:-0500
TZOFFSETFROM:-0400
RRULE:FREQ=YEARLY;BYMONTH=11;BYDAY=1SU
END:STANDARD
BEGIN:DAYLIGHT
DTSTART:19700426T070000
TZOFFSETTO:-0400
TZOFFSETFROM:-0500
RRULE:FREQ=YEARLY;BYMONTH=3;BYDAY=2SU
END:DAYLIGHT
END:VTIMEZONE
BEGIN:VEVENT
UID:ACG-ATLANTA-BELOW-THE-CHOP-2026-BRAVES-VS-CUBS-MAY-14TH
DTSTART;TZID=America/New_York:20260514T173035
DTEND;TZID=America/New_York:20260514T223047
STATUS:CONFIRMED
SUMMARY:ACG Atlanta Below the Chop 2026 | Braves vs Cubs – May 14th
DESCRIPTION:
LOCATION:Truist Park\n755 Battery Avenue Southeast\nAtlanta\\, GA 30339
URL:https://www.acg.org/atlanta/events/acg-atlanta-below-chop-2026-bra
 ves-vs-cubs-may-14th
DTSTAMP:20260424T020233Z
END:VEVENT
END:VCALENDAR
