BEGIN:VCALENDAR
VERSION:2.0
PRODID:-//ACG//Events//EN
CALSCALE:GREGORIAN
METHOD:PUBLISH
BEGIN:VTIMEZONE
TZID:America/Chicago
BEGIN:STANDARD
DTSTART:19701025T070000
TZOFFSETTO:-0600
TZOFFSETFROM:-0500
RRULE:FREQ=YEARLY;BYMONTH=11;BYDAY=1SU
END:STANDARD
BEGIN:DAYLIGHT
DTSTART:19700426T080000
TZOFFSETTO:-0500
TZOFFSETFROM:-0600
RRULE:FREQ=YEARLY;BYMONTH=3;BYDAY=2SU
END:DAYLIGHT
END:VTIMEZONE
BEGIN:VEVENT
UID:ACG-ASA-S-13TH-ANNUAL-PRIVATE-EQUITY-TWO-STEP-CONFERENCE-ON-5-5-26
DTSTART;TZID=America/Chicago:20260505T090046
DTEND;TZID=America/Chicago:20260505T173046
STATUS:CONFIRMED
SUMMARY:ACG ASA's 13th Annual Private Equity Two-Step Conference on 5/5/26
DESCRIPTION:
LOCATION:San Antonio Country Club\n4100 North New Braunfels Avenue\nSa
 n Antonio\\, TX 78209
URL:https://www.acg.org/asa/events/acg-asas-13th-annual-private-equity
 -two-step-conference-5526
DTSTAMP:20260420T033816Z
END:VEVENT
END:VCALENDAR
