BEGIN:VCALENDAR
VERSION:2.0
PRODID:-//ACG//Events//EN
CALSCALE:GREGORIAN
METHOD:PUBLISH
BEGIN:VTIMEZONE
TZID:America/New_York
BEGIN:STANDARD
DTSTART:19701025T060000
TZOFFSETTO:-0500
TZOFFSETFROM:-0400
RRULE:FREQ=YEARLY;BYMONTH=11;BYDAY=1SU
END:STANDARD
BEGIN:DAYLIGHT
DTSTART:19700426T070000
TZOFFSETTO:-0400
TZOFFSETFROM:-0500
RRULE:FREQ=YEARLY;BYMONTH=3;BYDAY=2SU
END:DAYLIGHT
END:VTIMEZONE
BEGIN:VEVENT
UID:ACG-ORLANDO-18TH-ANNUAL-SMART-AWARDS
DTSTART;TZID=America/New_York:20260513T110059
DTEND;TZID=America/New_York:20260513T133007
STATUS:CONFIRMED
SUMMARY:ACG Orlando 18th Annual SMART Awards
DESCRIPTION:
LOCATION:The Westin Lake Mary\, Orlando North\n2974 International Park
 way\nLake Mary\\, FL 32746
URL:https://www.acg.org/orlando/events/acg-orlando-18th-annual-smart-awards
DTSTAMP:20260420T234751Z
END:VEVENT
END:VCALENDAR
