BEGIN:VCALENDAR
VERSION:2.0
PRODID:-//ACG//Events//EN
CALSCALE:GREGORIAN
METHOD:PUBLISH
BEGIN:VTIMEZONE
TZID:America/Phoenix
BEGIN:STANDARD
DTSTART:19700101T060000
TZOFFSETTO:-0700
TZOFFSETFROM:-0700
END:STANDARD
END:VTIMEZONE
BEGIN:VEVENT
UID:2026-ACG-ARIZONA-YOUNG-DEALMAKERS-HAPPY-HOUR
DTSTART;TZID=America/Phoenix:20260331T163044
DTEND;TZID=America/Phoenix:20260331T183003
STATUS:CONFIRMED
SUMMARY:2026 ACG Arizona Young Dealmakers Sip and Swing Happy Hour
DESCRIPTION:
LOCATION:Trevor's Paradise Valley\n12820 North Tatum Boulevard\nPhoeni
 x\\, AZ 85032
URL:https://www.acg.org/arizona/events/2026-acg-arizona-young-dealmake
 rs-sip-and-swing-happy-hour
DTSTAMP:20260420T044648Z
END:VEVENT
END:VCALENDAR
