BEGIN:VCALENDAR
VERSION:2.0
PRODID:-//ACG//Events//EN
CALSCALE:GREGORIAN
METHOD:PUBLISH
BEGIN:VTIMEZONE
TZID:America/Detroit
BEGIN:STANDARD
DTSTART:19700101T060000
TZOFFSETTO:-0500
TZOFFSETFROM:-0500
END:STANDARD
END:VTIMEZONE
BEGIN:VEVENT
UID:150152
DTSTART;TZID=America/Detroit:20260520T080000
DTEND;TZID=America/Detroit:20260520T100000
STATUS:CONFIRMED
SUMMARY:May Signature Program
DESCRIPTION:
LOCATION:Embassy Suites Grand Rapids Downtown 710 Monroe Ave NW\, Gran
 d Rapids\, MI 49503 \n
URL:https://www.acg.org/wmich/events/may-signature-program-0
DTSTAMP:20260424T090652Z
END:VEVENT
END:VCALENDAR
