BEGIN:VCALENDAR
VERSION:2.0
PRODID:-//ACG//Events//EN
CALSCALE:GREGORIAN
METHOD:PUBLISH
BEGIN:VTIMEZONE
TZID:America/New_York
BEGIN:STANDARD
DTSTART:19701025T060000
TZOFFSETTO:-0500
TZOFFSETFROM:-0400
RRULE:FREQ=YEARLY;BYMONTH=11;BYDAY=1SU
END:STANDARD
BEGIN:DAYLIGHT
DTSTART:19700426T070000
TZOFFSETTO:-0400
TZOFFSETFROM:-0500
RRULE:FREQ=YEARLY;BYMONTH=3;BYDAY=2SU
END:DAYLIGHT
END:VTIMEZONE
BEGIN:VEVENT
UID:2026-GREAT-LAKES-CAPITAL-CONNECTION
DTSTART;TZID=America/New_York:20260908T160046
DTEND;TZID=America/New_York:20260910T120046
STATUS:CONFIRMED
SUMMARY:2026 Great Lakes Capital Connection
DESCRIPTION:
LOCATION:JW Marriott\n10 South West Street\nIndianapolis\\, IN 46204
URL:https://www.acg.org/glcc/events/2026-great-lakes-capital-connection
DTSTAMP:20260420T130622Z
END:VEVENT
END:VCALENDAR
