BEGIN:VCALENDAR
VERSION:2.0
PRODID:-//ACG//Events//EN
CALSCALE:GREGORIAN
METHOD:PUBLISH
BEGIN:VTIMEZONE
TZID:US/Eastern
BEGIN:STANDARD
DTSTART:19701025T060000
TZOFFSETTO:-0500
TZOFFSETFROM:-0400
RRULE:FREQ=YEARLY;BYMONTH=11;BYDAY=1SU
END:STANDARD
BEGIN:DAYLIGHT
DTSTART:19700426T070000
TZOFFSETTO:-0400
TZOFFSETFROM:-0500
RRULE:FREQ=YEARLY;BYMONTH=3;BYDAY=2SU
END:DAYLIGHT
END:VTIMEZONE
BEGIN:VEVENT
UID:2026-NFL-HAPPY-HOUR-AT-TIMUQUANA-COUNTRY-CLUB
DTSTART;TZID=US/Eastern:20260514T173037
DTEND;TZID=US/Eastern:20260514T193004
STATUS:CONFIRMED
SUMMARY:2026 NFL Sunset Food & Wine Event at Timuquana Country Club
DESCRIPTION:
LOCATION:Timuquana Country Club\n4028 Timuquana Road\nJacksonville\\, 
 FL 32210
URL:https://www.acg.org/northflorida/events/2026-nfl-sunset-food-wine-
 event-timuquana-country-club
DTSTAMP:20260421T034119Z
END:VEVENT
END:VCALENDAR
