BEGIN:VCALENDAR
VERSION:2.0
PRODID:-//ACG//Events//EN
CALSCALE:GREGORIAN
METHOD:PUBLISH
BEGIN:VTIMEZONE
TZID:America/New_York
BEGIN:STANDARD
DTSTART:19701025T060000
TZOFFSETTO:-0500
TZOFFSETFROM:-0400
RRULE:FREQ=YEARLY;BYMONTH=11;BYDAY=1SU
END:STANDARD
BEGIN:DAYLIGHT
DTSTART:19700426T070000
TZOFFSETTO:-0400
TZOFFSETFROM:-0500
RRULE:FREQ=YEARLY;BYMONTH=3;BYDAY=2SU
END:DAYLIGHT
END:VTIMEZONE
BEGIN:VEVENT
UID:2026-ACG-ORLANDO-PRIVATE-EQUITY-OUTLOOK
DTSTART;TZID=America/New_York:20260423T113003
DTEND;TZID=America/New_York:20260423T133013
STATUS:CONFIRMED
SUMMARY:2026 ACG Orlando Private Equity Outlook
DESCRIPTION:
LOCATION:Citrus Club\n255 South Orange Avenue\nOrlando\\, FL 32801
URL:https://www.acg.org/orlando/events/2026-acg-orlando-private-equity
 -outlook
DTSTAMP:20260420T201414Z
END:VEVENT
END:VCALENDAR
