BEGIN:VCALENDAR
VERSION:2.0
PRODID:-//ACG//Events//EN
CALSCALE:GREGORIAN
METHOD:PUBLISH
BEGIN:VTIMEZONE
TZID:America/Los_Angeles
BEGIN:STANDARD
DTSTART:19701025T090000
TZOFFSETTO:-0800
TZOFFSETFROM:-0700
RRULE:FREQ=YEARLY;BYMONTH=11;BYDAY=1SU
END:STANDARD
BEGIN:DAYLIGHT
DTSTART:19700426T100000
TZOFFSETTO:-0700
TZOFFSETFROM:-0800
RRULE:FREQ=YEARLY;BYMONTH=3;BYDAY=2SU
END:DAYLIGHT
END:VTIMEZONE
BEGIN:VEVENT
UID:2026-Y20-SEA-Y20-SPRING-SOCIAL
DTSTART;TZID=America/Los_Angeles:20260415T163021
DTEND;TZID=America/Los_Angeles:20260415T183021
STATUS:CONFIRMED
SUMMARY:2026 Y20 SEA | Y20 Spring Social
DESCRIPTION:
LOCATION:The Diller Room\n1224 1st Avenue\nSeattle\\, WA 98101
URL:https://www.acg.org/seattle/events/2026-y20-sea-y20-spring-social
DTSTAMP:20260420T105338Z
END:VEVENT
END:VCALENDAR
