BEGIN:VCALENDAR
VERSION:2.0
PRODID:-//ACG//Events//EN
CALSCALE:GREGORIAN
METHOD:PUBLISH
BEGIN:VTIMEZONE
TZID:America/New_York
BEGIN:STANDARD
DTSTART:19701025T060000
TZOFFSETTO:-0500
TZOFFSETFROM:-0400
RRULE:FREQ=YEARLY;BYMONTH=11;BYDAY=1SU
END:STANDARD
BEGIN:DAYLIGHT
DTSTART:19700426T070000
TZOFFSETTO:-0400
TZOFFSETFROM:-0500
RRULE:FREQ=YEARLY;BYMONTH=3;BYDAY=2SU
END:DAYLIGHT
END:VTIMEZONE
BEGIN:VEVENT
UID:ACG-ATLANTA-PRESENTS-OPERATIONAL-VALUE-CREATION-WITH-AI
DTSTART;TZID=America/New_York:20260414T073048
DTEND;TZID=America/New_York:20260414T093058
STATUS:CONFIRMED
SUMMARY:ACG Atlanta presents: Practical AI for Private Equity
DESCRIPTION:
LOCATION:Buckhead Club\n3344 Peachtree Road\nAtlanta\\, GA 30326
URL:https://www.acg.org/atlanta/events/acg-atlanta-presents-practical-
 ai-private-equity
DTSTAMP:20260422T215752Z
END:VEVENT
END:VCALENDAR
