BEGIN:VCALENDAR
VERSION:2.0
PRODID:-//ACG//Events//EN
CALSCALE:GREGORIAN
METHOD:PUBLISH
BEGIN:VTIMEZONE
TZID:America/Los_Angeles
BEGIN:STANDARD
DTSTART:19701025T090000
TZOFFSETTO:-0800
TZOFFSETFROM:-0700
RRULE:FREQ=YEARLY;BYMONTH=11;BYDAY=1SU
END:STANDARD
BEGIN:DAYLIGHT
DTSTART:19700426T100000
TZOFFSETTO:-0700
TZOFFSETFROM:-0800
RRULE:FREQ=YEARLY;BYMONTH=3;BYDAY=2SU
END:DAYLIGHT
END:VTIMEZONE
BEGIN:VEVENT
UID:ACGSD-NO-LEAKS-ALLOWED-INSIDE-A-PLUMBING-M-A-DEAL
DTSTART;TZID=America/Los_Angeles:20260421T160047
DTEND;TZID=America/Los_Angeles:20260421T180059
STATUS:CONFIRMED
SUMMARY:ACGSD | No Leaks Allowed: Inside a Plumbing M&A Deal
DESCRIPTION:
LOCATION:Mintz\n3580 Carmel Mountain Road\nSan Diego\\, CA 92130
URL:https://www.acg.org/sandiego/events/acgsd-no-leaks-allowed-inside-
 plumbing-ma-deal
DTSTAMP:20260420T130721Z
END:VEVENT
END:VCALENDAR
