BEGIN:VCALENDAR
VERSION:2.0
PRODID:-//ACG//Events//EN
CALSCALE:GREGORIAN
METHOD:PUBLISH
BEGIN:VTIMEZONE
TZID:America/Denver
BEGIN:STANDARD
DTSTART:19701025T080000
TZOFFSETTO:-0700
TZOFFSETFROM:-0600
RRULE:FREQ=YEARLY;BYMONTH=11;BYDAY=1SU
END:STANDARD
BEGIN:DAYLIGHT
DTSTART:19700426T090000
TZOFFSETTO:-0600
TZOFFSETFROM:-0700
RRULE:FREQ=YEARLY;BYMONTH=3;BYDAY=2SU
END:DAYLIGHT
END:VTIMEZONE
BEGIN:VEVENT
UID:ACG-DENVER-VIRTUAL-NETWORKING-ELUNCH-2026
DTSTART;TZID=America/Denver:20260916T120045
DTEND;TZID=America/Denver:20260916T130057
STATUS:CONFIRMED
SUMMARY:ACG Denver | Virtual Networking eLunch\, 2026
DESCRIPTION:
LOCATION:Virtual by Zoom\n
URL:https://www.acg.org/denver/events/acg-denver-virtual-networking-el
 unch-2026
DTSTAMP:20260422T092708Z
END:VEVENT
END:VCALENDAR
