BEGIN:VCALENDAR
VERSION:2.0
PRODID:-//ACG//Events//EN
CALSCALE:GREGORIAN
METHOD:PUBLISH
BEGIN:VTIMEZONE
TZID:America/New_York
BEGIN:STANDARD
DTSTART:19701025T060000
TZOFFSETTO:-0500
TZOFFSETFROM:-0400
RRULE:FREQ=YEARLY;BYMONTH=11;BYDAY=1SU
END:STANDARD
BEGIN:DAYLIGHT
DTSTART:19700426T070000
TZOFFSETTO:-0400
TZOFFSETFROM:-0500
RRULE:FREQ=YEARLY;BYMONTH=3;BYDAY=2SU
END:DAYLIGHT
END:VTIMEZONE
BEGIN:VEVENT
UID:150399
DTSTART;TZID=America/New_York:20260421T163000
DTEND;TZID=America/New_York:20260421T190000
STATUS:CONFIRMED
SUMMARY:ACG Akron & FEI Northeast Ohio Presents: An Inside Look at The
  Davey Tree Expert Company
DESCRIPTION:
LOCATION:Davey Tree Expert Company SEED Campus\n1500 N. Mantua Street\
 nKent\\, OH 44240
URL:https://www.acg.org/cleveland/events/acg-akron-fei-northeast-ohio-
 presents-inside-look-davey-tree-expert-company
DTSTAMP:20260420T071558Z
END:VEVENT
END:VCALENDAR
