BEGIN:VCALENDAR
VERSION:2.0
PRODID:-//ACG//Events//EN
CALSCALE:GREGORIAN
METHOD:PUBLISH
BEGIN:VTIMEZONE
TZID:America/Chicago
BEGIN:STANDARD
DTSTART:19701025T070000
TZOFFSETTO:-0600
TZOFFSETFROM:-0500
RRULE:FREQ=YEARLY;BYMONTH=11;BYDAY=1SU
END:STANDARD
BEGIN:DAYLIGHT
DTSTART:19700426T080000
TZOFFSETTO:-0500
TZOFFSETFROM:-0600
RRULE:FREQ=YEARLY;BYMONTH=3;BYDAY=2SU
END:DAYLIGHT
END:VTIMEZONE
BEGIN:VEVENT
UID:150405
DTSTART;TZID=America/Chicago:20260608T110000
DTEND;TZID=America/Chicago:20260609T173000
STATUS:CONFIRMED
SUMMARY:2026 Upper Midwest Capital Connection - Registration Now Open
DESCRIPTION:
LOCATION:Royal Sonesta Hotel - Minneapolis\n
URL:https://www.acg.org/minnesota/events/2026-upper-midwest-capital-co
 nnection-registration-now-open
DTSTAMP:20260423T011748Z
END:VEVENT
END:VCALENDAR
