BEGIN:VCALENDAR
VERSION:2.0
PRODID:-//ACG//Events//EN
CALSCALE:GREGORIAN
METHOD:PUBLISH
BEGIN:VTIMEZONE
TZID:US/Eastern
BEGIN:STANDARD
DTSTART:19701025T060000
TZOFFSETTO:-0500
TZOFFSETFROM:-0400
RRULE:FREQ=YEARLY;BYMONTH=11;BYDAY=1SU
END:STANDARD
BEGIN:DAYLIGHT
DTSTART:19700426T070000
TZOFFSETTO:-0400
TZOFFSETFROM:-0500
RRULE:FREQ=YEARLY;BYMONTH=3;BYDAY=2SU
END:DAYLIGHT
END:VTIMEZONE
BEGIN:VEVENT
UID:2025-NFL-DIGGING-INTO-A-D-INVESTMENTS
DTSTART;TZID=US/Eastern:20260423T110000
DTEND;TZID=US/Eastern:20260423T130000
STATUS:CONFIRMED
SUMMARY:2025 NFL Digging into A&D Investments
DESCRIPTION:
LOCATION:The River Club\n1 Independent Drive\nJacksonville\\, FL 32202
URL:https://www.acg.org/northflorida/events/2025-nfl-digging-ad-investments
DTSTAMP:20260421T033824Z
END:VEVENT
END:VCALENDAR
