BEGIN:VCALENDAR
VERSION:2.0
PRODID:-//ACG//Events//EN
CALSCALE:GREGORIAN
METHOD:PUBLISH
BEGIN:VTIMEZONE
TZID:America/Los_Angeles
BEGIN:STANDARD
DTSTART:19701025T090000
TZOFFSETTO:-0800
TZOFFSETFROM:-0700
RRULE:FREQ=YEARLY;BYMONTH=11;BYDAY=1SU
END:STANDARD
BEGIN:DAYLIGHT
DTSTART:19700426T100000
TZOFFSETTO:-0700
TZOFFSETFROM:-0800
RRULE:FREQ=YEARLY;BYMONTH=3;BYDAY=2SU
END:DAYLIGHT
END:VTIMEZONE
BEGIN:VEVENT
UID:ACG-LOS-ANGELES-SPRING-TENNIS-2026
DTSTART;TZID=America/Los_Angeles:20260521T130036
DTEND;TZID=America/Los_Angeles:20260521T170055
STATUS:CONFIRMED
SUMMARY:ACG Los Angeles | Spring Tennis\, 2026
DESCRIPTION:
LOCATION:Los Angeles Tennis Club\n5851 Clinton Street\nLos Angeles\\, 
 CA 90004
URL:https://www.acg.org/los-angeles/events/acg-los-angeles-spring-tenn
 is-2026
DTSTAMP:20260424T213717Z
END:VEVENT
END:VCALENDAR
