BEGIN:VCALENDAR
VERSION:2.0
PRODID:-//ACG//Events//EN
CALSCALE:GREGORIAN
METHOD:PUBLISH
BEGIN:VTIMEZONE
TZID:US/Pacific
BEGIN:STANDARD
DTSTART:19701025T090000
TZOFFSETTO:-0800
TZOFFSETFROM:-0700
RRULE:FREQ=YEARLY;BYMONTH=11;BYDAY=1SU
END:STANDARD
BEGIN:DAYLIGHT
DTSTART:19700426T100000
TZOFFSETTO:-0700
TZOFFSETFROM:-0800
RRULE:FREQ=YEARLY;BYMONTH=3;BYDAY=2SU
END:DAYLIGHT
END:VTIMEZONE
BEGIN:VEVENT
UID:2026-GOLF-TOURNAMENT-ACG-PORTLAND
DTSTART;TZID=US/Pacific:20260715T120021
DTEND;TZID=US/Pacific:20260715T200021
STATUS:CONFIRMED
SUMMARY:2026 Golf Tournament | ACG Portland
DESCRIPTION:
LOCATION:Langdon Farms Golf Club\n24377 Airport Road Northeast\nAurora
 \\, OR 97002
URL:https://www.acg.org/portland/events/2026-golf-tournament-acg-portland
DTSTAMP:20260422T110503Z
END:VEVENT
END:VCALENDAR
