BEGIN:VCALENDAR
VERSION:2.0
PRODID:-//ACG//Events//EN
CALSCALE:GREGORIAN
METHOD:PUBLISH
BEGIN:VTIMEZONE
TZID:America/New_York
BEGIN:STANDARD
DTSTART:19701025T060000
TZOFFSETTO:-0500
TZOFFSETFROM:-0400
RRULE:FREQ=YEARLY;BYMONTH=11;BYDAY=1SU
END:STANDARD
BEGIN:DAYLIGHT
DTSTART:19700426T070000
TZOFFSETTO:-0400
TZOFFSETFROM:-0500
RRULE:FREQ=YEARLY;BYMONTH=3;BYDAY=2SU
END:DAYLIGHT
END:VTIMEZONE
BEGIN:VEVENT
UID:2026-ACG-COLUMBUS-MARCH-MORNING-MEETUP
DTSTART;TZID=America/New_York:20260326T073056
DTEND;TZID=America/New_York:20260326T093056
STATUS:CONFIRMED
SUMMARY:2026 ACG Columbus March Morning Meetup
DESCRIPTION:
LOCATION:Brekkie Shack\n1060 Yard Street\nColumbus\\, OH 43212
URL:https://www.acg.org/columbus/events/2026-acg-columbus-march-mornin
 g-meetup
DTSTAMP:20260422T081130Z
END:VEVENT
END:VCALENDAR
