BEGIN:VCALENDAR
VERSION:2.0
PRODID:-//ACG//Events//EN
CALSCALE:GREGORIAN
METHOD:PUBLISH
BEGIN:VTIMEZONE
TZID:America/Denver
BEGIN:STANDARD
DTSTART:19701025T080000
TZOFFSETTO:-0700
TZOFFSETFROM:-0600
RRULE:FREQ=YEARLY;BYMONTH=11;BYDAY=1SU
END:STANDARD
BEGIN:DAYLIGHT
DTSTART:19700426T090000
TZOFFSETTO:-0600
TZOFFSETFROM:-0700
RRULE:FREQ=YEARLY;BYMONTH=3;BYDAY=2SU
END:DAYLIGHT
END:VTIMEZONE
BEGIN:VEVENT
UID:2026-ACG-DENVER-MAY-FLY-BY
DTSTART;TZID=America/Denver:20260513T163015
DTEND;TZID=America/Denver:20260513T180040
STATUS:CONFIRMED
SUMMARY:2026 ACG Denver May Fly-By
DESCRIPTION:
URL:https://www.acg.org/denver/events/2026-acg-denver-may-fly
DTSTAMP:20260420T111512Z
END:VEVENT
END:VCALENDAR
