BEGIN:VCALENDAR
VERSION:2.0
PRODID:-//ACG//Events//EN
CALSCALE:GREGORIAN
METHOD:PUBLISH
BEGIN:VTIMEZONE
TZID:America/Chicago
BEGIN:STANDARD
DTSTART:19701025T070000
TZOFFSETTO:-0600
TZOFFSETFROM:-0500
RRULE:FREQ=YEARLY;BYMONTH=11;BYDAY=1SU
END:STANDARD
BEGIN:DAYLIGHT
DTSTART:19700426T080000
TZOFFSETTO:-0500
TZOFFSETFROM:-0600
RRULE:FREQ=YEARLY;BYMONTH=3;BYDAY=2SU
END:DAYLIGHT
END:VTIMEZONE
BEGIN:VEVENT
UID:2026-ACG-DFW-WOMEN-OF-ACG-NETWORKING-EVENT
DTSTART;TZID=America/Chicago:20260422T163054
DTEND;TZID=America/Chicago:20260422T183015
STATUS:CONFIRMED
SUMMARY:2026 ACG DFW Women's Networking Event
DESCRIPTION:
LOCATION:Rayleigh Underground\n316 West Las Colinas Boulevard\nIrving\
 \, TX 75039
URL:https://www.acg.org/dfw/events/2026-acg-dfw-womens-networking-event
DTSTAMP:20260421T120127Z
END:VEVENT
END:VCALENDAR
