BEGIN:VCALENDAR
VERSION:2.0
PRODID:-//ACG//Events//EN
CALSCALE:GREGORIAN
METHOD:PUBLISH
BEGIN:VTIMEZONE
TZID:Europe/Amsterdam
BEGIN:STANDARD
DTSTART:19700101T060000
TZOFFSETTO:+0100
TZOFFSETFROM:+0100
END:STANDARD
END:VTIMEZONE
BEGIN:VEVENT
UID:150763
DTSTART;TZID=Europe/Amsterdam:20260416T170000
DTEND;TZID=Europe/Amsterdam:20260416T200000
STATUS:CONFIRMED
SUMMARY:Young ACG Holland event
DESCRIPTION:
LOCATION:Mooie Boules\n3 Zeeburgerpad
URL:https://www.acg.org/holland/events/young-acg-holland-event
DTSTAMP:20260420T111510Z
END:VEVENT
END:VCALENDAR
