BEGIN:VCALENDAR
VERSION:2.0
PRODID:-//ACG//Events//EN
CALSCALE:GREGORIAN
METHOD:PUBLISH
BEGIN:VTIMEZONE
TZID:America/Chicago
BEGIN:STANDARD
DTSTART:19701025T070000
TZOFFSETTO:-0600
TZOFFSETFROM:-0500
RRULE:FREQ=YEARLY;BYMONTH=11;BYDAY=1SU
END:STANDARD
BEGIN:DAYLIGHT
DTSTART:19700426T080000
TZOFFSETTO:-0500
TZOFFSETFROM:-0600
RRULE:FREQ=YEARLY;BYMONTH=3;BYDAY=2SU
END:DAYLIGHT
END:VTIMEZONE
BEGIN:VEVENT
UID:2026-ACG-KANSAS-CITY-CAPITAL-CONNECTION-WINE-TASTING
DTSTART;TZID=America/Chicago:20260923T140017
DTEND;TZID=America/Chicago:20260923T180035
STATUS:CONFIRMED
SUMMARY:2026 ACG Kansas City Capital Connection & Wine Tasting
DESCRIPTION:
LOCATION:The Gallery\n61 East 14th Street\nKansas City\\, MO 64106
URL:https://www.acg.org/kc/events/2026-acg-kansas-city-capital-connect
 ion-wine-tasting
DTSTAMP:20260422T090206Z
END:VEVENT
END:VCALENDAR
