BEGIN:VCALENDAR
VERSION:2.0
PRODID:-//ACG//Events//EN
CALSCALE:GREGORIAN
METHOD:PUBLISH
BEGIN:VTIMEZONE
TZID:America/New_York
BEGIN:STANDARD
DTSTART:19701025T060000
TZOFFSETTO:-0500
TZOFFSETFROM:-0400
RRULE:FREQ=YEARLY;BYMONTH=11;BYDAY=1SU
END:STANDARD
BEGIN:DAYLIGHT
DTSTART:19700426T070000
TZOFFSETTO:-0400
TZOFFSETFROM:-0500
RRULE:FREQ=YEARLY;BYMONTH=3;BYDAY=2SU
END:DAYLIGHT
END:VTIMEZONE
BEGIN:VEVENT
UID:ACG-PITTSBURGH-2026-JUNE-FCL-EVENT
DTSTART;TZID=America/New_York:20260617T170041
DTEND;TZID=America/New_York:20260617T190041
STATUS:CONFIRMED
SUMMARY:ACG Pittsburgh 2026 June FCL Event
DESCRIPTION:
LOCATION:Grist House Command\n301 Sgt Messerschmidt Road\nNoblestown\\
 , PA 15071
URL:https://www.acg.org/pittsburgh/events/acg-pittsburgh-2026-june-fcl
 -event
DTSTAMP:20260424T232911Z
END:VEVENT
END:VCALENDAR
