BEGIN:VCALENDAR
VERSION:2.0
PRODID:-//ACG//Events//EN
CALSCALE:GREGORIAN
METHOD:PUBLISH
BEGIN:VTIMEZONE
TZID:America/New_York
BEGIN:STANDARD
DTSTART:19701025T060000
TZOFFSETTO:-0500
TZOFFSETFROM:-0400
RRULE:FREQ=YEARLY;BYMONTH=11;BYDAY=1SU
END:STANDARD
BEGIN:DAYLIGHT
DTSTART:19700426T070000
TZOFFSETTO:-0400
TZOFFSETFROM:-0500
RRULE:FREQ=YEARLY;BYMONTH=3;BYDAY=2SU
END:DAYLIGHT
END:VTIMEZONE
BEGIN:VEVENT
UID:ACG-DETROIT-2026-AIMING-FOR-GREATNESS-WOMEN-S-FORUM-CLAY-SHOOTING-
 SOCIAL
DTSTART;TZID=America/New_York:20260617T160028
DTEND;TZID=America/New_York:20260617T190047
STATUS:CONFIRMED
SUMMARY:ACG Detroit | 2026 Aiming for Greatness: Women's Forum Clay Sh
 ooting Social
DESCRIPTION:
LOCATION:Bald Mountain Shooting Range\n2500 Kern Road
URL:https://www.acg.org/detroit/events/acg-detroit-2026-aiming-greatne
 ss-womens-forum-clay-shooting-social
DTSTAMP:20260422T125037Z
END:VEVENT
END:VCALENDAR
