BEGIN:VCALENDAR
VERSION:2.0
PRODID:-//ACG//Events//EN
CALSCALE:GREGORIAN
METHOD:PUBLISH
BEGIN:VTIMEZONE
TZID:America/New_York
BEGIN:STANDARD
DTSTART:19701025T060000
TZOFFSETTO:-0500
TZOFFSETFROM:-0400
RRULE:FREQ=YEARLY;BYMONTH=11;BYDAY=1SU
END:STANDARD
BEGIN:DAYLIGHT
DTSTART:19700426T070000
TZOFFSETTO:-0400
TZOFFSETFROM:-0500
RRULE:FREQ=YEARLY;BYMONTH=3;BYDAY=2SU
END:DAYLIGHT
END:VTIMEZONE
BEGIN:VEVENT
UID:2026-ACG-BOSTON-WOMEN-OF-LEADERSHIP-GOLF-CLINIC
DTSTART;TZID=America/New_York:20260714T153048
DTEND;TZID=America/New_York:20260714T180048
STATUS:CONFIRMED
SUMMARY:2026 ACG Boston: Women of Leadership Golf Clinic
DESCRIPTION:
LOCATION:Granite Links\n100 Quarry Hills Drive\nQuincy\\, MA 02169
URL:https://www.acg.org/boston/events/2026-acg-boston-women-leadership
 -golf-clinic
DTSTAMP:20260422T110434Z
END:VEVENT
END:VCALENDAR
