BEGIN:VCALENDAR
VERSION:2.0
PRODID:-//ACG//Events//EN
CALSCALE:GREGORIAN
METHOD:PUBLISH
BEGIN:VTIMEZONE
TZID:America/Chicago
BEGIN:STANDARD
DTSTART:19701025T070000
TZOFFSETTO:-0600
TZOFFSETFROM:-0500
RRULE:FREQ=YEARLY;BYMONTH=11;BYDAY=1SU
END:STANDARD
BEGIN:DAYLIGHT
DTSTART:19700426T080000
TZOFFSETTO:-0500
TZOFFSETFROM:-0600
RRULE:FREQ=YEARLY;BYMONTH=3;BYDAY=2SU
END:DAYLIGHT
END:VTIMEZONE
BEGIN:VEVENT
UID:2026-STL-GOLF-CLINIC-AT-THE-ACG-ST-LOUIS-ANNUAL-GOLF-TOURNAMENT
DTSTART;TZID=America/Chicago:20260914T113037
DTEND;TZID=America/Chicago:20260914T170056
STATUS:CONFIRMED
SUMMARY:2026 STL | Golf Clinic at the ACG St. Louis Annual Golf Tournament
DESCRIPTION:
LOCATION:Meadowbrook Country Club\n200 Meadowbrook Country Club Estate
 s\nBallwin\\, MO 63011
URL:https://www.acg.org/stlouis/events/2026-stl-golf-clinic-acg-st-lou
 is-annual-golf-tournament
DTSTAMP:20260420T110953Z
END:VEVENT
END:VCALENDAR
