BEGIN:VCALENDAR
VERSION:2.0
PRODID:-//ACG//Events//EN
CALSCALE:GREGORIAN
METHOD:PUBLISH
BEGIN:VTIMEZONE
TZID:America/Los_Angeles
BEGIN:STANDARD
DTSTART:19701025T090000
TZOFFSETTO:-0800
TZOFFSETFROM:-0700
RRULE:FREQ=YEARLY;BYMONTH=11;BYDAY=1SU
END:STANDARD
BEGIN:DAYLIGHT
DTSTART:19700426T100000
TZOFFSETTO:-0700
TZOFFSETFROM:-0800
RRULE:FREQ=YEARLY;BYMONTH=3;BYDAY=2SU
END:DAYLIGHT
END:VTIMEZONE
BEGIN:VEVENT
UID:ACG-LOS-ANGELES-WOMEN-OF-ACG-FALL-EVENT-OCTOBER-2026
DTSTART;TZID=America/Los_Angeles:20261022T150022
DTEND;TZID=America/Los_Angeles:20261022T170032
STATUS:CONFIRMED
SUMMARY:ACG Los Angeles | Women of ACG Fall Event\, October 2026
DESCRIPTION:
LOCATION:To Be Announced\n
URL:https://www.acg.org/los-angeles/events/acg-los-angeles-women-acg-f
 all-event-october-2026
DTSTAMP:20260422T084425Z
END:VEVENT
END:VCALENDAR
