BEGIN:VCALENDAR
VERSION:2.0
PRODID:-//ACG//Events//EN
CALSCALE:GREGORIAN
METHOD:PUBLISH
BEGIN:VTIMEZONE
TZID:America/New_York
BEGIN:STANDARD
DTSTART:19701025T060000
TZOFFSETTO:-0500
TZOFFSETFROM:-0400
RRULE:FREQ=YEARLY;BYMONTH=11;BYDAY=1SU
END:STANDARD
BEGIN:DAYLIGHT
DTSTART:19700426T070000
TZOFFSETTO:-0400
TZOFFSETFROM:-0500
RRULE:FREQ=YEARLY;BYMONTH=3;BYDAY=2SU
END:DAYLIGHT
END:VTIMEZONE
BEGIN:VEVENT
UID:2026-05-ACGKY-DEAL-OF-THE-YEAR-AWARDS
DTSTART;TZID=America/New_York:20260512T112001
DTEND;TZID=America/New_York:20260512T130029
STATUS:CONFIRMED
SUMMARY:2026-05 ACGKY Deal of the Year Awards
DESCRIPTION:
LOCATION:Baird 29 Conference Center\n500 West Jefferson Street\nLouisv
 ille\\, KY 40202
URL:https://www.acg.org/kentucky/events/2026-05-acgky-deal-year-awards
DTSTAMP:20260422T065358Z
END:VEVENT
END:VCALENDAR
